BEGIN:VCALENDAR
VERSION:2.0
PRODID:-//Bow Movement - ECPv6.15.20//NONSGML v1.0//EN
CALSCALE:GREGORIAN
METHOD:PUBLISH
X-ORIGINAL-URL:https://bowmovement.org
X-WR-CALDESC:Events for Bow Movement
REFRESH-INTERVAL;VALUE=DURATION:PT1H
X-Robots-Tag:noindex
X-PUBLISHED-TTL:PT1H
BEGIN:VTIMEZONE
TZID:UTC
BEGIN:STANDARD
TZOFFSETFROM:+0000
TZOFFSETTO:+0000
TZNAME:UTC
DTSTART:20220101T000000
END:STANDARD
END:VTIMEZONE
BEGIN:VEVENT
DTSTART;TZID=UTC:20230424T080000
DTEND;TZID=UTC:20230424T170000
DTSTAMP:20260423T170942
CREATED:20230424T135522Z
LAST-MODIFIED:20230425T123041Z
UID:979-1682323200-1682355600@bowmovement.org
SUMMARY:Service du 1er mois
DESCRIPTION:Programme du 1er dimanche
URL:https://bowmovement.org/event/1st-month-service/
CATEGORIES:Événement du premier dimanche
END:VEVENT
END:VCALENDAR